Package: combi Version: 1.11.0 Command: /home/biocbuild/bbs-3.17-bioc/R/bin/R CMD check --install=check:combi.install-out.txt --library=/home/biocbuild/bbs-3.17-bioc/R/site-library --timings combi_1.11.0.tar.gz StartedAt: 2023-04-12 05:28:57 -0400 (Wed, 12 Apr 2023) EndedAt: 2023-04-12 05:37:21 -0400 (Wed, 12 Apr 2023) EllapsedTime: 503.2 seconds RetCode: 0 Status: OK CheckDir: combi.Rcheck Warnings: 0