Package: combi Version: 1.11.0 Command: /home/biocbuild/bbs-3.17-bioc/R/bin/R CMD INSTALL combi StartedAt: 2023-04-12 01:58:11 -0400 (Wed, 12 Apr 2023) EndedAt: 2023-04-12 01:58:53 -0400 (Wed, 12 Apr 2023) EllapsedTime: 42.0 seconds RetCode: 0 Status: OK