Package: compartmap Version: 1.17.0 Command: /home/biocbuild/bbs-3.17-bioc/R/bin/R CMD INSTALL compartmap StartedAt: 2023-04-11 15:35:02 -0400 (Tue, 11 Apr 2023) EndedAt: 2023-04-11 15:35:30 -0400 (Tue, 11 Apr 2023) EllapsedTime: 28.2 seconds RetCode: 0 Status: OK