Package: compartmap Version: 1.17.0 Command: /home/biocbuild/bbs-3.17-bioc/R/bin/R CMD build --keep-empty-dirs --no-resave-data compartmap StartedAt: 2023-04-12 02:31:49 -0400 (Wed, 12 Apr 2023) EndedAt: 2023-04-12 02:33:52 -0400 (Wed, 12 Apr 2023) EllapsedTime: 122.4 seconds RetCode: 0 Status: OK PackageFile: compartmap_1.17.0.tar.gz PackageFileSize: 3.444 MiB