Package: crisprBase Version: 1.3.3 Command: /home/biocbuild/bbs-3.17-bioc/R/bin/R CMD check --install=check:crisprBase.install-out.txt --library=/home/biocbuild/bbs-3.17-bioc/R/site-library --timings crisprBase_1.3.3.tar.gz StartedAt: 2023-04-11 19:35:08 -0400 (Tue, 11 Apr 2023) EndedAt: 2023-04-11 19:36:50 -0400 (Tue, 11 Apr 2023) EllapsedTime: 102.0 seconds RetCode: 0 Status: OK CheckDir: crisprBase.Rcheck Warnings: 0