Package: crisprBase Version: 1.3.3 Command: /home/biocbuild/bbs-3.17-bioc/R/bin/R CMD INSTALL crisprBase StartedAt: 2023-04-11 15:06:22 -0400 (Tue, 11 Apr 2023) EndedAt: 2023-04-11 15:06:37 -0400 (Tue, 11 Apr 2023) EllapsedTime: 15.6 seconds RetCode: 0 Status: OK