git_url: https://git.bioconductor.org/packages/crlmm git_branch: devel git_last_commit: 5bac5c8 git_last_commit_date: 2022-11-01 11:04:22 -0400 (Tue, 01 Nov 2022) Package: crlmm Version: 1.57.0 Maintainer: Benilton S Carvalho MaintainerEmail: benilton at unicamp.br