Package: crlmm Version: 1.57.0 Command: /home/biocbuild/bbs-3.17-bioc/R/bin/R CMD check --install=check:crlmm.install-out.txt --library=/home/biocbuild/bbs-3.17-bioc/R/site-library --timings crlmm_1.57.0.tar.gz StartedAt: 2023-04-12 05:38:08 -0400 (Wed, 12 Apr 2023) EndedAt: 2023-04-12 05:49:55 -0400 (Wed, 12 Apr 2023) EllapsedTime: 706.8 seconds RetCode: 0 Status: WARNINGS CheckDir: crlmm.Rcheck Warnings: 1