Package: cummeRbund Version: 2.41.0 Command: /home/biocbuild/bbs-3.17-bioc/R/bin/R CMD build --keep-empty-dirs --no-resave-data cummeRbund StartedAt: 2023-04-11 16:15:13 -0400 (Tue, 11 Apr 2023) EndedAt: 2023-04-11 16:17:02 -0400 (Tue, 11 Apr 2023) EllapsedTime: 109.0 seconds RetCode: 0 Status: OK PackageFile: cummeRbund_2.41.0.tar.gz PackageFileSize: 2.333 MiB