Package: cummeRbund Version: 2.41.0 Command: /home/biocbuild/bbs-3.17-bioc/R/bin/R CMD check --install=check:cummeRbund.install-out.txt --library=/home/biocbuild/bbs-3.17-bioc/R/site-library --timings cummeRbund_2.41.0.tar.gz StartedAt: 2023-04-11 19:39:55 -0400 (Tue, 11 Apr 2023) EndedAt: 2023-04-11 19:48:07 -0400 (Tue, 11 Apr 2023) EllapsedTime: 492.7 seconds RetCode: 0 Status: WARNINGS CheckDir: cummeRbund.Rcheck Warnings: 1