Package: cummeRbund Version: 2.41.0 Command: /home/biocbuild/bbs-3.17-bioc/R/bin/R CMD INSTALL cummeRbund StartedAt: 2023-04-11 15:22:52 -0400 (Tue, 11 Apr 2023) EndedAt: 2023-04-11 15:23:48 -0400 (Tue, 11 Apr 2023) EllapsedTime: 55.9 seconds RetCode: 0 Status: OK