Package: dada2 Version: 1.27.1 Command: /home/biocbuild/bbs-3.17-bioc/R/bin/R CMD build --keep-empty-dirs --no-resave-data dada2 StartedAt: 2023-04-12 02:36:51 -0400 (Wed, 12 Apr 2023) EndedAt: 2023-04-12 02:39:06 -0400 (Wed, 12 Apr 2023) EllapsedTime: 134.5 seconds RetCode: 0 Status: OK PackageFile: dada2_1.27.1.tar.gz PackageFileSize: 2.737 MiB