Package: decompTumor2Sig Version: 2.15.0 Command: /home/biocbuild/bbs-3.17-bioc/R/bin/R CMD INSTALL decompTumor2Sig StartedAt: 2023-04-11 15:25:13 -0400 (Tue, 11 Apr 2023) EndedAt: 2023-04-11 15:25:54 -0400 (Tue, 11 Apr 2023) EllapsedTime: 41.2 seconds RetCode: 0 Status: OK