Package: deepSNV Version: 1.45.0 Command: /home/biocbuild/bbs-3.17-bioc/R/bin/R CMD build --keep-empty-dirs --no-resave-data deepSNV StartedAt: 2023-04-12 02:38:01 -0400 (Wed, 12 Apr 2023) EndedAt: 2023-04-12 02:39:15 -0400 (Wed, 12 Apr 2023) EllapsedTime: 74.3 seconds RetCode: 0 Status: OK PackageFile: deepSNV_1.45.0.tar.gz PackageFileSize: 2.31 MiB