git_url: https://git.bioconductor.org/packages/densvis git_branch: devel git_last_commit: 0094814 git_last_commit_date: 2023-01-25 08:08:04 -0400 (Wed, 25 Jan 2023) Package: densvis Version: 1.9.1 Maintainer: Alan O'Callaghan MaintainerEmail: alan.ocallaghan at outlook.com