Package: discordant Version: 1.23.0 Command: /home/biocbuild/bbs-3.17-bioc/R/bin/R CMD build --keep-empty-dirs --no-resave-data discordant StartedAt: 2023-04-12 02:41:18 -0400 (Wed, 12 Apr 2023) EndedAt: 2023-04-12 02:41:53 -0400 (Wed, 12 Apr 2023) EllapsedTime: 35.1 seconds RetCode: 0 Status: OK PackageFile: discordant_1.23.0.tar.gz PackageFileSize: 460.7 KiB