Package: dittoSeq Version: 1.11.0 Command: /home/biocbuild/bbs-3.17-bioc/R/bin/R CMD INSTALL dittoSeq StartedAt: 2023-04-12 01:37:59 -0400 (Wed, 12 Apr 2023) EndedAt: 2023-04-12 01:38:34 -0400 (Wed, 12 Apr 2023) EllapsedTime: 35.4 seconds RetCode: 0 Status: OK