Package: doppelgangR Version: 1.27.0 Command: /home/biocbuild/bbs-3.17-bioc/R/bin/R CMD check --install=check:doppelgangR.install-out.txt --library=/home/biocbuild/bbs-3.17-bioc/R/site-library --timings doppelgangR_1.27.0.tar.gz StartedAt: 2023-04-12 05:58:40 -0400 (Wed, 12 Apr 2023) EndedAt: 2023-04-12 06:03:57 -0400 (Wed, 12 Apr 2023) EllapsedTime: 316.9 seconds RetCode: 0 Status: OK CheckDir: doppelgangR.Rcheck Warnings: 0