Package: doseR Version: 1.15.0 Command: /home/biocbuild/bbs-3.17-bioc/R/bin/R CMD build --keep-empty-dirs --no-resave-data doseR StartedAt: 2023-04-12 02:42:59 -0400 (Wed, 12 Apr 2023) EndedAt: 2023-04-12 02:43:35 -0400 (Wed, 12 Apr 2023) EllapsedTime: 36.1 seconds RetCode: 0 Status: OK PackageFile: doseR_1.15.0.tar.gz PackageFileSize: 1.283 MiB