Package: doseR Version: 1.15.0 Command: /home/biocbuild/bbs-3.17-bioc/R/bin/R CMD INSTALL doseR StartedAt: 2023-04-12 01:53:33 -0400 (Wed, 12 Apr 2023) EndedAt: 2023-04-12 01:53:52 -0400 (Wed, 12 Apr 2023) EllapsedTime: 19.9 seconds RetCode: 0 Status: OK