Package: edge Version: 2.31.0 Command: /home/biocbuild/bbs-3.17-bioc/R/bin/R CMD check --install=check:edge.install-out.txt --library=/home/biocbuild/bbs-3.17-bioc/R/site-library --timings edge_2.31.0.tar.gz StartedAt: 2023-04-11 20:04:36 -0400 (Tue, 11 Apr 2023) EndedAt: 2023-04-11 20:08:31 -0400 (Tue, 11 Apr 2023) EllapsedTime: 235.1 seconds RetCode: 0 Status: WARNINGS CheckDir: edge.Rcheck Warnings: 1