git_url: https://git.bioconductor.org/packages/ensemblVEP git_branch: devel git_last_commit: af762fa git_last_commit_date: 2022-11-28 21:19:59 -0400 (Mon, 28 Nov 2022) Package: ensemblVEP Version: 1.41.1 Maintainer: Bioconductor Package Maintainer MaintainerEmail: maintainer at bioconductor.org