Package: epivizrStandalone Version: 1.27.0 Command: /home/biocbuild/bbs-3.17-bioc/R/bin/R CMD INSTALL epivizrStandalone StartedAt: 2023-04-12 01:49:29 -0400 (Wed, 12 Apr 2023) EndedAt: 2023-04-12 01:50:35 -0400 (Wed, 12 Apr 2023) EllapsedTime: 65.7 seconds RetCode: 0 Status: OK