Package: evaluomeR Version: 1.15.0 Command: /home/biocbuild/bbs-3.17-bioc/R/bin/R CMD check --install=check:evaluomeR.install-out.txt --library=/home/biocbuild/bbs-3.17-bioc/R/site-library --timings evaluomeR_1.15.0.tar.gz StartedAt: 2023-04-11 20:12:21 -0400 (Tue, 11 Apr 2023) EndedAt: 2023-04-11 20:16:21 -0400 (Tue, 11 Apr 2023) EllapsedTime: 240.1 seconds RetCode: 0 Status: OK CheckDir: evaluomeR.Rcheck Warnings: 0