Package: evaluomeR Version: 1.15.0 Command: /home/biocbuild/bbs-3.17-bioc/R/bin/R CMD INSTALL evaluomeR StartedAt: 2023-04-11 15:19:32 -0400 (Tue, 11 Apr 2023) EndedAt: 2023-04-11 15:20:07 -0400 (Tue, 11 Apr 2023) EllapsedTime: 34.6 seconds RetCode: 0 Status: OK