Package: extraChIPs Version: 1.3.9 Command: /home/biocbuild/bbs-3.17-bioc/R/bin/R CMD build --keep-empty-dirs --no-resave-data extraChIPs StartedAt: 2023-04-11 16:29:31 -0400 (Tue, 11 Apr 2023) EndedAt: 2023-04-11 16:32:41 -0400 (Tue, 11 Apr 2023) EllapsedTime: 189.4 seconds RetCode: 0 Status: OK PackageFile: extraChIPs_1.3.9.tar.gz PackageFileSize: 2.418 MiB