Package: extraChIPs Version: 1.3.9 Command: /home/biocbuild/bbs-3.17-bioc/R/bin/R CMD INSTALL extraChIPs StartedAt: 2023-04-11 15:24:16 -0400 (Tue, 11 Apr 2023) EndedAt: 2023-04-11 15:25:11 -0400 (Tue, 11 Apr 2023) EllapsedTime: 54.4 seconds RetCode: 0 Status: OK