Package: farms Version: 1.51.0 Command: /home/biocbuild/bbs-3.17-bioc/R/bin/R CMD build --keep-empty-dirs --no-resave-data farms StartedAt: 2023-04-11 16:29:43 -0400 (Tue, 11 Apr 2023) EndedAt: 2023-04-11 16:30:56 -0400 (Tue, 11 Apr 2023) EllapsedTime: 72.8 seconds RetCode: 0 Status: OK PackageFile: farms_1.51.0.tar.gz PackageFileSize: 286.8 KiB