Package: fedup Version: 1.7.0 Command: /home/biocbuild/bbs-3.17-bioc/R/bin/R CMD INSTALL fedup StartedAt: 2023-04-12 02:01:52 -0400 (Wed, 12 Apr 2023) EndedAt: 2023-04-12 02:02:06 -0400 (Wed, 12 Apr 2023) EllapsedTime: 13.7 seconds RetCode: 0 Status: OK