Package: flowCHIC Version: 1.33.0 Command: /home/biocbuild/bbs-3.17-bioc/R/bin/R CMD build --keep-empty-dirs --no-resave-data flowCHIC StartedAt: 2023-04-12 02:50:09 -0400 (Wed, 12 Apr 2023) EndedAt: 2023-04-12 02:50:41 -0400 (Wed, 12 Apr 2023) EllapsedTime: 32.1 seconds RetCode: 0 Status: OK PackageFile: flowCHIC_1.33.0.tar.gz PackageFileSize: 3.067 MiB