Package: flowCHIC Version: 1.33.0 Command: /home/biocbuild/bbs-3.17-bioc/R/bin/R CMD check --install=check:flowCHIC.install-out.txt --library=/home/biocbuild/bbs-3.17-bioc/R/site-library --timings flowCHIC_1.33.0.tar.gz StartedAt: 2023-04-12 06:18:07 -0400 (Wed, 12 Apr 2023) EndedAt: 2023-04-12 06:20:26 -0400 (Wed, 12 Apr 2023) EllapsedTime: 138.4 seconds RetCode: 0 Status: OK CheckDir: flowCHIC.Rcheck Warnings: 0