Package: flowCHIC Version: 1.33.0 Command: /home/biocbuild/bbs-3.17-bioc/R/bin/R CMD INSTALL flowCHIC StartedAt: 2023-04-12 01:44:15 -0400 (Wed, 12 Apr 2023) EndedAt: 2023-04-12 01:44:35 -0400 (Wed, 12 Apr 2023) EllapsedTime: 19.6 seconds RetCode: 0 Status: OK