Package: flowPlots Version: 1.47.0 Command: /home/biocbuild/bbs-3.17-bioc/R/bin/R CMD INSTALL flowPlots StartedAt: 2023-04-12 01:32:34 -0400 (Wed, 12 Apr 2023) EndedAt: 2023-04-12 01:32:47 -0400 (Wed, 12 Apr 2023) EllapsedTime: 12.3 seconds RetCode: 0 Status: OK