Package: flowSpecs Version: 1.13.1 Command: /home/biocbuild/bbs-3.17-bioc/R/bin/R CMD check --install=check:flowSpecs.install-out.txt --library=/home/biocbuild/bbs-3.17-bioc/R/site-library --timings flowSpecs_1.13.1.tar.gz StartedAt: 2023-04-11 20:22:11 -0400 (Tue, 11 Apr 2023) EndedAt: 2023-04-11 20:23:45 -0400 (Tue, 11 Apr 2023) EllapsedTime: 93.8 seconds RetCode: 0 Status: OK CheckDir: flowSpecs.Rcheck Warnings: 0