Package: flowcatchR Version: 1.33.0 Command: /home/biocbuild/bbs-3.17-bioc/R/bin/R CMD build --keep-empty-dirs --no-resave-data flowcatchR StartedAt: 2023-04-11 16:31:20 -0400 (Tue, 11 Apr 2023) EndedAt: 2023-04-11 16:31:55 -0400 (Tue, 11 Apr 2023) EllapsedTime: 35.1 seconds RetCode: 0 Status: OK PackageFile: flowcatchR_1.33.0.tar.gz PackageFileSize: 6.731 MiB