Package: fmrs Version: 1.9.0 Command: /home/biocbuild/bbs-3.17-bioc/R/bin/R CMD INSTALL fmrs StartedAt: 2023-04-12 01:53:58 -0400 (Wed, 12 Apr 2023) EndedAt: 2023-04-12 01:54:12 -0400 (Wed, 12 Apr 2023) EllapsedTime: 13.5 seconds RetCode: 0 Status: OK