Package: gemma.R Version: 1.1.1 Command: /home/biocbuild/bbs-3.17-bioc/R/bin/R CMD build --keep-empty-dirs --no-resave-data gemma.R StartedAt: 2023-04-11 16:34:39 -0400 (Tue, 11 Apr 2023) EndedAt: 2023-04-11 16:35:38 -0400 (Tue, 11 Apr 2023) EllapsedTime: 58.9 seconds RetCode: 0 Status: OK PackageFile: gemma.R_1.1.1.tar.gz PackageFileSize: 1.186 MiB