Package: geneplotter Version: 1.77.0 Command: /home/biocbuild/bbs-3.17-bioc/R/bin/R CMD build --keep-empty-dirs --no-resave-data geneplotter StartedAt: 2023-04-11 16:35:37 -0400 (Tue, 11 Apr 2023) EndedAt: 2023-04-11 16:36:00 -0400 (Tue, 11 Apr 2023) EllapsedTime: 23.4 seconds RetCode: 0 Status: OK PackageFile: geneplotter_1.77.0.tar.gz PackageFileSize: 1.335 MiB