Package: geneplotter Version: 1.77.0 Command: /home/biocbuild/bbs-3.17-bioc/R/bin/R CMD check --install=check:geneplotter.install-out.txt --library=/home/biocbuild/bbs-3.17-bioc/R/site-library --timings geneplotter_1.77.0.tar.gz StartedAt: 2023-04-11 20:28:16 -0400 (Tue, 11 Apr 2023) EndedAt: 2023-04-11 20:30:37 -0400 (Tue, 11 Apr 2023) EllapsedTime: 140.2 seconds RetCode: 0 Status: OK CheckDir: geneplotter.Rcheck Warnings: 0