git_url: https://git.bioconductor.org/packages/ggtree git_branch: devel git_last_commit: e432737 git_last_commit_date: 2023-04-03 23:12:42 -0400 (Mon, 03 Apr 2023) Package: ggtree Version: 3.7.2 Maintainer: Guangchuang Yu MaintainerEmail: guangchuangyu at gmail.com