Package: girafe Version: 1.51.0 Command: /home/biocbuild/bbs-3.17-bioc/R/bin/R CMD INSTALL girafe StartedAt: 2023-04-12 01:47:46 -0400 (Wed, 12 Apr 2023) EndedAt: 2023-04-12 01:48:36 -0400 (Wed, 12 Apr 2023) EllapsedTime: 49.4 seconds RetCode: 0 Status: OK