Package: hierGWAS Version: 1.29.0 Command: /home/biocbuild/bbs-3.17-bioc/R/bin/R CMD build --keep-empty-dirs --no-resave-data hierGWAS StartedAt: 2023-04-12 03:03:15 -0400 (Wed, 12 Apr 2023) EndedAt: 2023-04-12 03:05:09 -0400 (Wed, 12 Apr 2023) EllapsedTime: 113.5 seconds RetCode: 0 Status: OK PackageFile: hierGWAS_1.29.0.tar.gz PackageFileSize: 423.9 KiB