Package: hierGWAS Version: 1.29.0 Command: /home/biocbuild/bbs-3.17-bioc/R/bin/R CMD check --install=check:hierGWAS.install-out.txt --library=/home/biocbuild/bbs-3.17-bioc/R/site-library --timings hierGWAS_1.29.0.tar.gz StartedAt: 2023-04-12 06:48:44 -0400 (Wed, 12 Apr 2023) EndedAt: 2023-04-12 06:52:45 -0400 (Wed, 12 Apr 2023) EllapsedTime: 241.7 seconds RetCode: 0 Status: WARNINGS CheckDir: hierGWAS.Rcheck Warnings: 1