Package: hierGWAS Version: 1.29.0 Command: /home/biocbuild/bbs-3.17-bioc/R/bin/R CMD INSTALL hierGWAS StartedAt: 2023-04-12 01:54:03 -0400 (Wed, 12 Apr 2023) EndedAt: 2023-04-12 01:54:12 -0400 (Wed, 12 Apr 2023) EllapsedTime: 9.3 seconds RetCode: 0 Status: OK