Package: immunotation Version: 1.7.0 Command: /home/biocbuild/bbs-3.17-bioc/R/bin/R CMD check --install=check:immunotation.install-out.txt --library=/home/biocbuild/bbs-3.17-bioc/R/site-library --timings immunotation_1.7.0.tar.gz StartedAt: 2023-04-11 21:01:10 -0400 (Tue, 11 Apr 2023) EndedAt: 2023-04-11 21:03:56 -0400 (Tue, 11 Apr 2023) EllapsedTime: 165.9 seconds RetCode: 0 Status: OK CheckDir: immunotation.Rcheck Warnings: 0