Package: keggorthology Version: 2.51.0 Command: /home/biocbuild/bbs-3.17-bioc/R/bin/R CMD build --keep-empty-dirs --no-resave-data keggorthology StartedAt: 2023-04-12 03:10:02 -0400 (Wed, 12 Apr 2023) EndedAt: 2023-04-12 03:10:27 -0400 (Wed, 12 Apr 2023) EllapsedTime: 25.1 seconds RetCode: 0 Status: OK PackageFile: keggorthology_2.51.0.tar.gz PackageFileSize: 653.9 KiB