Package: keggorthology Version: 2.51.0 Command: /home/biocbuild/bbs-3.17-bioc/R/bin/R CMD check --install=check:keggorthology.install-out.txt --library=/home/biocbuild/bbs-3.17-bioc/R/site-library --timings keggorthology_2.51.0.tar.gz StartedAt: 2023-04-12 07:03:38 -0400 (Wed, 12 Apr 2023) EndedAt: 2023-04-12 07:05:55 -0400 (Wed, 12 Apr 2023) EllapsedTime: 136.4 seconds RetCode: 0 Status: OK CheckDir: keggorthology.Rcheck Warnings: 0