Package: lisaClust Version: 1.7.3 Command: /home/biocbuild/bbs-3.17-bioc/R/bin/R CMD INSTALL lisaClust StartedAt: 2023-04-11 15:27:14 -0400 (Tue, 11 Apr 2023) EndedAt: 2023-04-11 15:27:44 -0400 (Tue, 11 Apr 2023) EllapsedTime: 29.4 seconds RetCode: 0 Status: OK