Package: lmdme Version: 1.41.0 Command: /home/biocbuild/bbs-3.17-bioc/R/bin/R CMD build --keep-empty-dirs --no-resave-data lmdme StartedAt: 2023-04-11 16:53:47 -0400 (Tue, 11 Apr 2023) EndedAt: 2023-04-11 16:53:57 -0400 (Tue, 11 Apr 2023) EllapsedTime: 10.2 seconds RetCode: 0 Status: OK PackageFile: lmdme_1.41.0.tar.gz PackageFileSize: 609 KiB