Package: lpNet Version: 2.31.0 Command: /home/biocbuild/bbs-3.17-bioc/R/bin/R CMD build --keep-empty-dirs --no-resave-data lpNet StartedAt: 2023-04-12 03:11:19 -0400 (Wed, 12 Apr 2023) EndedAt: 2023-04-12 03:11:47 -0400 (Wed, 12 Apr 2023) EllapsedTime: 27.2 seconds RetCode: 0 Status: OK PackageFile: lpNet_2.31.0.tar.gz PackageFileSize: 211.5 KiB